BEGIN:VCALENDAR
VERSION:2.0
PRODID:-//Waldmohr Aktuell - ECPv6.15.20//NONSGML v1.0//EN
CALSCALE:GREGORIAN
METHOD:PUBLISH
X-WR-CALNAME:Waldmohr Aktuell
X-ORIGINAL-URL:https://www.waldmohr-aktuell.de
X-WR-CALDESC:Veranstaltungen im Waldmohr Aktuell
REFRESH-INTERVAL;VALUE=DURATION:PT1H
X-Robots-Tag:noindex
X-PUBLISHED-TTL:PT1H
BEGIN:VTIMEZONE
TZID:Europe/Berlin
BEGIN:DAYLIGHT
TZOFFSETFROM:+0100
TZOFFSETTO:+0200
TZNAME:CEST
DTSTART:20230326T010000
END:DAYLIGHT
BEGIN:STANDARD
TZOFFSETFROM:+0200
TZOFFSETTO:+0100
TZNAME:CET
DTSTART:20231029T010000
END:STANDARD
BEGIN:DAYLIGHT
TZOFFSETFROM:+0100
TZOFFSETTO:+0200
TZNAME:CEST
DTSTART:20240331T010000
END:DAYLIGHT
BEGIN:STANDARD
TZOFFSETFROM:+0200
TZOFFSETTO:+0100
TZNAME:CET
DTSTART:20241027T010000
END:STANDARD
BEGIN:DAYLIGHT
TZOFFSETFROM:+0100
TZOFFSETTO:+0200
TZNAME:CEST
DTSTART:20250330T010000
END:DAYLIGHT
BEGIN:STANDARD
TZOFFSETFROM:+0200
TZOFFSETTO:+0100
TZNAME:CET
DTSTART:20251026T010000
END:STANDARD
END:VTIMEZONE
BEGIN:VEVENT
DTSTART;TZID=Europe/Berlin:20240526T100000
DTEND;TZID=Europe/Berlin:20240526T150000
DTSTAMP:20260419T193328
CREATED:20240522T091449Z
LAST-MODIFIED:20240522T091449Z
UID:19834-1716717600-1716735600@www.waldmohr-aktuell.de
SUMMARY:Wanderung Tiefenbachtal bei Werschweiler
DESCRIPTION:Wanderung 2024 \nZiel: Tiefenbachtal bei Werschweiler \nTreffpunkt: 10:00 Uhr Walter-K-Hanß-Platz Waldmohr \nWanderung ab Werschweiler\, Kleinbachstrasse um10:30 – 15:00 Uhr \nVorbei an der Oster liegen rechts 3 Teiche \nLinks geht es den Tiefenbach hoch zum Tiefenbachteich \nDurch Wald und Felder geht es hoch zum Wendalinushof\, wo eine Mittagsrast vorgesehen ist. \nZurück geht es entlang des Lautenbachs nach Werschweiler. \nWanderführung: Norbert Hölcker \nTermin: 26. Mai 2024 \nDauer: 10.00 – 14.00 Uhr \nTreffpunkt: Walter-K-Hanß-Platz Waldmohr
URL:https://www.waldmohr-aktuell.de/event/wanderung-tiefenbachtal-bei-werschweiler/
LOCATION:Walter-K-Hanß-Platz\, Waldmohr
ATTACH;FMTTYPE=image/jpeg:https://www.waldmohr-aktuell.de/wp-content/uploads/sites/363/2024/04/Logo_Waldmohr-NABU-jpg-1-e1716369245997.jpg
ORGANIZER;CN="Nabu Waldmohr":MAILTO:NABU.Waldmohr@NABU-RLP.de
END:VEVENT
END:VCALENDAR