BEGIN:VCALENDAR
VERSION:2.0
PRODID:-//Waldmohr Aktuell - ECPv6.15.20//NONSGML v1.0//EN
CALSCALE:GREGORIAN
METHOD:PUBLISH
X-WR-CALNAME:Waldmohr Aktuell
X-ORIGINAL-URL:https://www.waldmohr-aktuell.de
X-WR-CALDESC:Veranstaltungen im Waldmohr Aktuell
REFRESH-INTERVAL;VALUE=DURATION:PT1H
X-Robots-Tag:noindex
X-PUBLISHED-TTL:PT1H
BEGIN:VTIMEZONE
TZID:Europe/Berlin
BEGIN:DAYLIGHT
TZOFFSETFROM:+0100
TZOFFSETTO:+0200
TZNAME:CEST
DTSTART:20240331T010000
END:DAYLIGHT
BEGIN:STANDARD
TZOFFSETFROM:+0200
TZOFFSETTO:+0100
TZNAME:CET
DTSTART:20241027T010000
END:STANDARD
BEGIN:DAYLIGHT
TZOFFSETFROM:+0100
TZOFFSETTO:+0200
TZNAME:CEST
DTSTART:20250330T010000
END:DAYLIGHT
BEGIN:STANDARD
TZOFFSETFROM:+0200
TZOFFSETTO:+0100
TZNAME:CET
DTSTART:20251026T010000
END:STANDARD
BEGIN:DAYLIGHT
TZOFFSETFROM:+0100
TZOFFSETTO:+0200
TZNAME:CEST
DTSTART:20260329T010000
END:DAYLIGHT
BEGIN:STANDARD
TZOFFSETFROM:+0200
TZOFFSETTO:+0100
TZNAME:CET
DTSTART:20261025T010000
END:STANDARD
BEGIN:DAYLIGHT
TZOFFSETFROM:+0100
TZOFFSETTO:+0200
TZNAME:CEST
DTSTART:20270328T010000
END:DAYLIGHT
BEGIN:STANDARD
TZOFFSETFROM:+0200
TZOFFSETTO:+0100
TZNAME:CET
DTSTART:20271031T010000
END:STANDARD
END:VTIMEZONE
BEGIN:VEVENT
DTSTART;TZID=Europe/Berlin:20250907T110000
DTEND;TZID=Europe/Berlin:20250907T170000
DTSTAMP:20260419T211316
CREATED:20250829T155039Z
LAST-MODIFIED:20250901T083119Z
UID:20535-1757242800-1757264400@www.waldmohr-aktuell.de
SUMMARY:Bien & Blum
DESCRIPTION:Auf Einladung des NABU gastiert das Duo „Die Laufmaschen“ in Waldmohr\nDas Theater-Duo Die Laufmaschen besteht aus Beatrice Hutter und Daniela Daub.\nDie eine ist Schauspielerin und Musikantin\, die andere musizierende Komikerin und Jongleurin.\nDas Leben ist paradiesisch. Blum verströmt dufte Melodien\, Bien wirbelt Blütenstaub auf und jongliert Pollen. Bien & Blum trotzen dem Insektensterben und stecken rundum vergnügt alle an. \n 
URL:https://www.waldmohr-aktuell.de/event/bien-blum/
LOCATION:Feuerwehrwiese\, Saarpfalzstr. 12a\, Waldmohr\, 66914\, Germany
ORGANIZER;CN="Nabu Waldmohr":MAILTO:NABU.Waldmohr@NABU-RLP.de
END:VEVENT
BEGIN:VEVENT
DTSTART;TZID=Europe/Berlin:20250911T080000
DTEND;TZID=Europe/Berlin:20250911T170000
DTSTAMP:20260419T211316
CREATED:20250911T154427Z
LAST-MODIFIED:20250911T154427Z
UID:20547-1757577600-1757610000@www.waldmohr-aktuell.de
SUMMARY:Kräuterspaziergang
DESCRIPTION:Am Samstag\, den 20. September führt uns Frau Trost durch die Fülle der Kräuter und Beeren im September. Wir treffen uns um 15.00  Uhr an der Dörrberghütte in Waldmohr\nZu dieser Veranstaltung des NABU ist jeder recht herzlich eingeladen.\nDa die Teilnehmerzahl begrenzt ist\, ist eine Anmeldung per Email: info@kleeblatt-waldmohr.de oder telefonisch 06373 891235 erforderlich.
URL:https://www.waldmohr-aktuell.de/event/kraeuterspaziergang/
END:VEVENT
BEGIN:VEVENT
DTSTART;TZID=Europe/Berlin:20250919T080000
DTEND;TZID=Europe/Berlin:20250919T170000
DTSTAMP:20260419T211316
CREATED:20250920T082141Z
LAST-MODIFIED:20250920T082141Z
UID:20557-1758268800-1758301200@www.waldmohr-aktuell.de
SUMMARY:Pilzexkursion
DESCRIPTION:Am Samstag\, den 27. September um 14.30 Uhr \nTreffpunkt: Hügelgräber in Waldmohr/ Industriestraße \nReferent: Harry Regin – Pilzsachverständiger der deutschen Gesellschaft für Mykologie \nBei der ca. 3 stündigen Pilzwanderung Waldmohr suchen wir einheimische Pilzarten.\nHarry Regin stellt Speisepilze\, aber auch giftige und genießbare Arten\, bei denen es zu\nVerwechslungen kommen könnte vor. Mitzubringen sind auf jeden Fall festes Schuhwerk\,\nein Körbchen\, ein Messer und eventuell vorhandene Literatur. Bitte auf keinen Fall\nPlastiktüten mitbringen.\nDa die Teilnehmerzahl begrenzt ist\, bitten wir um Voranmeldung bei Kleeblatt Waldmohr\,\nTel.: 06373 891235 oder per Mail an info@kleeblatt-waldmohr.de
URL:https://www.waldmohr-aktuell.de/event/pilzexkursion/
ATTACH;FMTTYPE=image/jpeg:https://www.waldmohr-aktuell.de/wp-content/uploads/sites/363/2025/05/Logo_Waldmohr-NABU-jpg-e1747663707417.jpg
END:VEVENT
BEGIN:VEVENT
DTSTART;VALUE=DATE:20251004
DTEND;VALUE=DATE:20251007
DTSTAMP:20260419T211316
CREATED:20250611T095606Z
LAST-MODIFIED:20250611T095606Z
UID:20383-1759536000-1759795199@www.waldmohr-aktuell.de
SUMMARY:Kerwe in Waldmohr
DESCRIPTION:
URL:https://www.waldmohr-aktuell.de/event/kerwe-in-waldmohr/
LOCATION:Marktplatz Waldmohr
ORGANIZER;CN="Stadt Waldmohr%2C Vereine und Organisationen":MAILTO:bb-wm@vgog.de
END:VEVENT
BEGIN:VEVENT
DTSTART;VALUE=DATE:20251018
DTEND;VALUE=DATE:20251019
DTSTAMP:20260419T211316
CREATED:20250611T100642Z
LAST-MODIFIED:20250611T100701Z
UID:20394-1760745600-1760831999@www.waldmohr-aktuell.de
SUMMARY:Weinwanderung Waldmohr
DESCRIPTION:
URL:https://www.waldmohr-aktuell.de/event/weinwanderung-waldmohr/
END:VEVENT
BEGIN:VEVENT
DTSTART;TZID=Europe/Berlin:20251022T190000
DTEND;TZID=Europe/Berlin:20251022T203000
DTSTAMP:20260419T211316
CREATED:20251005T141528Z
LAST-MODIFIED:20251005T142537Z
UID:20578-1761159600-1761165000@www.waldmohr-aktuell.de
SUMMARY:Bildervortrag "Was blüht denn da?"
DESCRIPTION:Aufnahmen aus ungewöhnlichen Perspektiven — Schmetterlinge uvm. \nMittwoch\, den 22. Oktober 19:00 Uhr im Bürgerhaus Waldmohr \nNichtmitglieder herzlich willkommen — Eintritt frei \nBildervortrag von Gerhard Daub
URL:https://www.waldmohr-aktuell.de/event/bildervortrag-was-blueht-denn-da/
LOCATION:Bürgerhaus Waldmohr
ORGANIZER;CN="Nabu Waldmohr":MAILTO:NABU.Waldmohr@NABU-RLP.de
END:VEVENT
BEGIN:VEVENT
DTSTART;TZID=Europe/Berlin:20251105T190000
DTEND;TZID=Europe/Berlin:20251105T210000
DTSTAMP:20260419T211316
CREATED:20251031T091238Z
LAST-MODIFIED:20251031T101047Z
UID:20598-1762369200-1762376400@www.waldmohr-aktuell.de
SUMMARY:Wird unser Wasser knapp und welche Rolle spielen zusätzliche Entnahmen in der Region
DESCRIPTION:Unter Berücksichtigung des Grundwasservorkommens im Landstuhler Bruch und der Besonderheiten des Buntsandsteins in der Westpfalz \nReferent: Dr. Hans Jürgen Hahn\, Grundwasserökologe an der Techn. Universität                        Kaiserslautern Landau \nWo: Festsaal im Bürgerhaus Waldmohr Saarpfalzstr. 12 \nWann: Mittwoch\, 5. November 2025 19.00 Uhr \nVeranstalter: NABU Waldmohr\, jeder ist herzlich eingeladen \n  \n 
URL:https://www.waldmohr-aktuell.de/event/wird-unser-wasser-knapp-und-welche-rolle-spielen-zusaetzliche-entnahmen-in-der-region/
LOCATION:Festsaal des Bürgerhauses\, Saarpfalzstr. 12\, Waldmohr\, 66914\, Deutschland
ORGANIZER;CN="Nabu Waldmohr":MAILTO:NABU.Waldmohr@NABU-RLP.de
END:VEVENT
BEGIN:VEVENT
DTSTART;TZID=Europe/Berlin:20251115T180000
DTEND;TZID=Europe/Berlin:20251115T200000
DTSTAMP:20260419T211316
CREATED:20251110T104151Z
LAST-MODIFIED:20251110T104151Z
UID:20612-1763229600-1763236800@www.waldmohr-aktuell.de
SUMMARY:Das Feuer\, das nie mehr erlischt
DESCRIPTION:Chor-Konzert_251115_A4
URL:https://www.waldmohr-aktuell.de/event/das-feuer-das-nie-mehr-erlischt/
LOCATION:Prot. Kirche Waldmohr
END:VEVENT
BEGIN:VEVENT
DTSTART;TZID=Europe/Berlin:20251129T080000
DTEND;TZID=Europe/Berlin:20251129T170000
DTSTAMP:20260419T211316
CREATED:20250611T100012Z
LAST-MODIFIED:20250611T100012Z
UID:20387-1764403200-1764435600@www.waldmohr-aktuell.de
SUMMARY:Adventswochenmarkt
DESCRIPTION:
URL:https://www.waldmohr-aktuell.de/event/adventswochenmarkt/
LOCATION:Marktplatz Waldmohr
ORGANIZER;CN="Stadt Waldmohr%2C Vereine und Organisationen":MAILTO:bb-wm@vgog.de
END:VEVENT
BEGIN:VEVENT
DTSTART;VALUE=DATE:20251206
DTEND;VALUE=DATE:20251208
DTSTAMP:20260419T211316
CREATED:20250611T100143Z
LAST-MODIFIED:20250611T100143Z
UID:20389-1764979200-1765151999@www.waldmohr-aktuell.de
SUMMARY:Weihnachtsmarkt der Stadt Waldmohr
DESCRIPTION:
URL:https://www.waldmohr-aktuell.de/event/weihnachtsmarkt-der-stadt-waldmohr/
LOCATION:Marktplatz Waldmohr
ORGANIZER;CN="Stadt Waldmohr%2C Vereine und Organisationen":MAILTO:bb-wm@vgog.de
END:VEVENT
BEGIN:VEVENT
DTSTART;TZID=Europe/Berlin:20251214T170000
DTEND;TZID=Europe/Berlin:20251214T200000
DTSTAMP:20260419T211316
CREATED:20250611T095850Z
LAST-MODIFIED:20250611T095850Z
UID:20385-1765731600-1765742400@www.waldmohr-aktuell.de
SUMMARY:Konzert des Mainzer Kammerorchester mit EthnoChor Kids and Teens
DESCRIPTION:
URL:https://www.waldmohr-aktuell.de/event/konzert-des-mainzer-kammerorchester-mit-ethnochor-kids-and-teens/
LOCATION:Kath. Kirche\, Waldmohr\, Breitenbacher Str. 8\, Waldmohr\, 66914\, Deutschland
ORGANIZER;CN="Stadt Waldmohr%2C Vereine und Organisationen":MAILTO:bb-wm@vgog.de
END:VEVENT
BEGIN:VEVENT
DTSTART;TZID=Europe/Berlin:20260118T130000
DTEND;TZID=Europe/Berlin:20260118T170000
DTSTAMP:20260419T211316
CREATED:20260111T160257Z
LAST-MODIFIED:20260111T160257Z
UID:20681-1768741200-1768755600@www.waldmohr-aktuell.de
SUMMARY:Neujahrs-Ge(h)spräche 18.01.2026 ab 13.00 Uhr am Rathaus
DESCRIPTION:
URL:https://www.waldmohr-aktuell.de/event/neujahrs-gehspraeche-18-01-2026-ab-13-00-uhr-am-rathaus/
ORGANIZER;CN="Stadt Waldmohr%2C Vereine und Organisationen":MAILTO:bb-wm@vgog.de
END:VEVENT
BEGIN:VEVENT
DTSTART;TZID=Europe/Berlin:20260225T190000
DTEND;TZID=Europe/Berlin:20260225T210000
DTSTAMP:20260419T211316
CREATED:20260214T094442Z
LAST-MODIFIED:20260221T100009Z
UID:20711-1772046000-1772053200@www.waldmohr-aktuell.de
SUMMARY:Der Biber ist zurück im Westrich
DESCRIPTION:Die PowerPoint-Präsentation „Der Biber ist zurück im Westrich“ erläutert die Biologie und ökologische Bedeutung\, die Historie der Ausrottung des Bibers und die aktuelle Situation hier bei uns. \nBesondere Aufmerksamkeit verdienen hervorragende fotografische Aufnahmen des Bibers im Südkreis von Herrn Dr. Heinz\, Schönenberg-Kübelberg \nReferent: Dr. Ernst Segatz \nWann: Mittwoch\,den 25. Februar 19.00 Uhr \nWo: Festsaal\, Bürgerhaus Waldmohr \nVeranstalter: Nabu Waldmohr \nDie Teilnahme ist kostenlos\, jeder ist dazu herzlich eingeladen\, auch Nichtmitglieder.
URL:https://www.waldmohr-aktuell.de/event/der-biber-ist-zurueck-im-westrich/
LOCATION:Festsaal des Bürgerhauses\, Saarpfalzstr. 12\, Waldmohr\, 66914\, Deutschland
ORGANIZER;CN="Nabu Waldmohr":MAILTO:NABU.Waldmohr@NABU-RLP.de
END:VEVENT
BEGIN:VEVENT
DTSTART;TZID=Europe/Berlin:20260228T150000
DTEND;TZID=Europe/Berlin:20260228T180000
DTSTAMP:20260419T211316
CREATED:20260214T094707Z
LAST-MODIFIED:20260221T100034Z
UID:20713-1772290800-1772301600@www.waldmohr-aktuell.de
SUMMARY:Knospen von Bäumen und Sträuchern erkennen
DESCRIPTION:Einladung zum Spaziergang mit Kräuterpädagogin Christel Trost \nTermin: Samstag\, den 28. Februar\, 15.00 Uhr \nEine ganz besondere Gabe der Natur lässt sich zum Winterende hin an  Bäumen und Sträuchern in Wald\, Flur und sogar im Garten entdecken:  \nDie Knospen unserer heimischen Pflanzen. \nVon diesen kostbaren\, vielseitigen Substanzen können auch wir Menschen und unsere Gesundheit profitieren. \nNicht zuletzt erwarten uns dabei auch überraschende Aromen zum  Kosten. \nJeder ist eingeladen mitzugehen\, auch Nichtmitglieder\, lediglich eine Anmeldung ist erforderlich. \nEntweder per Mail: info@kleeblatt-waldmohr.de \n                Oder per Telefon: 06373 891235
URL:https://www.waldmohr-aktuell.de/event/knospen-von-baeumen-und-straeuchern-erkennen/
ORGANIZER;CN="Nabu Waldmohr":MAILTO:NABU.Waldmohr@NABU-RLP.de
END:VEVENT
BEGIN:VEVENT
DTSTART;TZID=Europe/Berlin:20260415T193000
DTEND;TZID=Europe/Berlin:20260415T213000
DTSTAMP:20260419T211316
CREATED:20260411T131729Z
LAST-MODIFIED:20260411T131738Z
UID:20754-1776281400-1776288600@www.waldmohr-aktuell.de
SUMMARY:Mitgliederversammlung
DESCRIPTION:  \nEinladung zur Mitgliederversammlung \n\nLiebe Naturfreundinnen und Naturfreunde\, liebe Mitglieder\, \nhiermit möchten wir Sie herzlich zu unserer diesjährigen Mitgliederversammlung einladen. \nSie findet am Mittwoch\, 15. April 2026 um 19.30 Uhr im Festsaal des Bürgerhauses in Waldmohr statt. \nTagesordnung: \n\n\nBegrüßung und Feststellung der Beschlussfähigkeit \n\n\nBericht des Vorstands \n\n\nBericht der Kassenwartin \n\n\nBericht der Kassenprüferinnen \n\n\nEntlastung des Vorstandes \n\n\nNeuwahlen \n\n\nPlanungen für 2026 \n\n\nVerschiedenes \n\n\nNutzen Sie die Gelegenheit\, mehr über die Aktivitäten des letzten Jahres zu erfahren und darüber\, welche Themen nächstes Jahr anstehen. Fühlen sie sich angesprochen und \nmöchten sie sich im Naturschutz engagieren? Jeder ist zur Mitarbeit herzlich eingeladen.
URL:https://www.waldmohr-aktuell.de/event/mitgliederversammlung/
LOCATION:Bürgerhaus Waldmohr
ORGANIZER;CN="Nabu Waldmohr":MAILTO:NABU.Waldmohr@NABU-RLP.de
END:VEVENT
END:VCALENDAR