BEGIN:VCALENDAR
VERSION:2.0
PRODID:-//Waldmohr Aktuell - ECPv6.15.20//NONSGML v1.0//EN
CALSCALE:GREGORIAN
METHOD:PUBLISH
X-ORIGINAL-URL:https://www.waldmohr-aktuell.de
X-WR-CALDESC:Veranstaltungen im Waldmohr Aktuell
REFRESH-INTERVAL;VALUE=DURATION:PT1H
X-Robots-Tag:noindex
X-PUBLISHED-TTL:PT1H
BEGIN:VTIMEZONE
TZID:Europe/Berlin
BEGIN:DAYLIGHT
TZOFFSETFROM:+0100
TZOFFSETTO:+0200
TZNAME:CEST
DTSTART:20240331T010000
END:DAYLIGHT
BEGIN:STANDARD
TZOFFSETFROM:+0200
TZOFFSETTO:+0100
TZNAME:CET
DTSTART:20241027T010000
END:STANDARD
BEGIN:DAYLIGHT
TZOFFSETFROM:+0100
TZOFFSETTO:+0200
TZNAME:CEST
DTSTART:20250330T010000
END:DAYLIGHT
BEGIN:STANDARD
TZOFFSETFROM:+0200
TZOFFSETTO:+0100
TZNAME:CET
DTSTART:20251026T010000
END:STANDARD
BEGIN:DAYLIGHT
TZOFFSETFROM:+0100
TZOFFSETTO:+0200
TZNAME:CEST
DTSTART:20260329T010000
END:DAYLIGHT
BEGIN:STANDARD
TZOFFSETFROM:+0200
TZOFFSETTO:+0100
TZNAME:CET
DTSTART:20261025T010000
END:STANDARD
BEGIN:DAYLIGHT
TZOFFSETFROM:+0100
TZOFFSETTO:+0200
TZNAME:CEST
DTSTART:20270328T010000
END:DAYLIGHT
BEGIN:STANDARD
TZOFFSETFROM:+0200
TZOFFSETTO:+0100
TZNAME:CET
DTSTART:20271031T010000
END:STANDARD
END:VTIMEZONE
BEGIN:VEVENT
DTSTART;TZID=Europe/Berlin:20251214T170000
DTEND;TZID=Europe/Berlin:20251214T200000
DTSTAMP:20260419T225438
CREATED:20250611T095850Z
LAST-MODIFIED:20250611T095850Z
UID:20385-1765731600-1765742400@www.waldmohr-aktuell.de
SUMMARY:Konzert des Mainzer Kammerorchester mit EthnoChor Kids and Teens
DESCRIPTION:
URL:https://www.waldmohr-aktuell.de/event/konzert-des-mainzer-kammerorchester-mit-ethnochor-kids-and-teens/
LOCATION:Kath. Kirche\, Waldmohr\, Breitenbacher Str. 8\, Waldmohr\, 66914\, Deutschland
ORGANIZER;CN="Stadt Waldmohr%2C Vereine und Organisationen":MAILTO:bb-wm@vgog.de
END:VEVENT
BEGIN:VEVENT
DTSTART;TZID=Europe/Berlin:20260118T130000
DTEND;TZID=Europe/Berlin:20260118T170000
DTSTAMP:20260419T225438
CREATED:20260111T160257Z
LAST-MODIFIED:20260111T160257Z
UID:20681-1768741200-1768755600@www.waldmohr-aktuell.de
SUMMARY:Neujahrs-Ge(h)spräche 18.01.2026 ab 13.00 Uhr am Rathaus
DESCRIPTION:
URL:https://www.waldmohr-aktuell.de/event/neujahrs-gehspraeche-18-01-2026-ab-13-00-uhr-am-rathaus/
LOCATION:Rheinland-Pfalz
ORGANIZER;CN="Stadt Waldmohr%2C Vereine und Organisationen":MAILTO:bb-wm@vgog.de
END:VEVENT
BEGIN:VEVENT
DTSTART;TZID=Europe/Berlin:20260225T190000
DTEND;TZID=Europe/Berlin:20260225T210000
DTSTAMP:20260419T225438
CREATED:20260214T094442Z
LAST-MODIFIED:20260221T100009Z
UID:20711-1772046000-1772053200@www.waldmohr-aktuell.de
SUMMARY:Der Biber ist zurück im Westrich
DESCRIPTION:Die PowerPoint-Präsentation „Der Biber ist zurück im Westrich“ erläutert die Biologie und ökologische Bedeutung\, die Historie der Ausrottung des Bibers und die aktuelle Situation hier bei uns. \nBesondere Aufmerksamkeit verdienen hervorragende fotografische Aufnahmen des Bibers im Südkreis von Herrn Dr. Heinz\, Schönenberg-Kübelberg \nReferent: Dr. Ernst Segatz \nWann: Mittwoch\,den 25. Februar 19.00 Uhr \nWo: Festsaal\, Bürgerhaus Waldmohr \nVeranstalter: Nabu Waldmohr \nDie Teilnahme ist kostenlos\, jeder ist dazu herzlich eingeladen\, auch Nichtmitglieder.
URL:https://www.waldmohr-aktuell.de/event/der-biber-ist-zurueck-im-westrich/
LOCATION:Festsaal des Bürgerhauses\, Saarpfalzstr. 12\, Waldmohr\, 66914\, Deutschland
ORGANIZER;CN="Nabu Waldmohr":MAILTO:NABU.Waldmohr@NABU-RLP.de
END:VEVENT
BEGIN:VEVENT
DTSTART;TZID=Europe/Berlin:20260228T150000
DTEND;TZID=Europe/Berlin:20260228T180000
DTSTAMP:20260419T225438
CREATED:20260214T094707Z
LAST-MODIFIED:20260221T100034Z
UID:20713-1772290800-1772301600@www.waldmohr-aktuell.de
SUMMARY:Knospen von Bäumen und Sträuchern erkennen
DESCRIPTION:Einladung zum Spaziergang mit Kräuterpädagogin Christel Trost \nTermin: Samstag\, den 28. Februar\, 15.00 Uhr \nEine ganz besondere Gabe der Natur lässt sich zum Winterende hin an  Bäumen und Sträuchern in Wald\, Flur und sogar im Garten entdecken:  \nDie Knospen unserer heimischen Pflanzen. \nVon diesen kostbaren\, vielseitigen Substanzen können auch wir Menschen und unsere Gesundheit profitieren. \nNicht zuletzt erwarten uns dabei auch überraschende Aromen zum  Kosten. \nJeder ist eingeladen mitzugehen\, auch Nichtmitglieder\, lediglich eine Anmeldung ist erforderlich. \nEntweder per Mail: info@kleeblatt-waldmohr.de \n                Oder per Telefon: 06373 891235
URL:https://www.waldmohr-aktuell.de/event/knospen-von-baeumen-und-straeuchern-erkennen/
LOCATION:Rheinland-Pfalz
ORGANIZER;CN="Nabu Waldmohr":MAILTO:NABU.Waldmohr@NABU-RLP.de
END:VEVENT
BEGIN:VEVENT
DTSTART;TZID=Europe/Berlin:20260415T193000
DTEND;TZID=Europe/Berlin:20260415T213000
DTSTAMP:20260419T225438
CREATED:20260411T131729Z
LAST-MODIFIED:20260411T131738Z
UID:20754-1776281400-1776288600@www.waldmohr-aktuell.de
SUMMARY:Mitgliederversammlung
DESCRIPTION:  \nEinladung zur Mitgliederversammlung \n\nLiebe Naturfreundinnen und Naturfreunde\, liebe Mitglieder\, \nhiermit möchten wir Sie herzlich zu unserer diesjährigen Mitgliederversammlung einladen. \nSie findet am Mittwoch\, 15. April 2026 um 19.30 Uhr im Festsaal des Bürgerhauses in Waldmohr statt. \nTagesordnung: \n\n\nBegrüßung und Feststellung der Beschlussfähigkeit \n\n\nBericht des Vorstands \n\n\nBericht der Kassenwartin \n\n\nBericht der Kassenprüferinnen \n\n\nEntlastung des Vorstandes \n\n\nNeuwahlen \n\n\nPlanungen für 2026 \n\n\nVerschiedenes \n\n\nNutzen Sie die Gelegenheit\, mehr über die Aktivitäten des letzten Jahres zu erfahren und darüber\, welche Themen nächstes Jahr anstehen. Fühlen sie sich angesprochen und \nmöchten sie sich im Naturschutz engagieren? Jeder ist zur Mitarbeit herzlich eingeladen.
URL:https://www.waldmohr-aktuell.de/event/mitgliederversammlung/
LOCATION:Bürgerhaus Waldmohr
ORGANIZER;CN="Nabu Waldmohr":MAILTO:NABU.Waldmohr@NABU-RLP.de
END:VEVENT
END:VCALENDAR