BEGIN:VCALENDAR
VERSION:2.0
PRODID:-//Waldmohr Aktuell - ECPv6.15.20//NONSGML v1.0//EN
CALSCALE:GREGORIAN
METHOD:PUBLISH
X-ORIGINAL-URL:https://www.waldmohr-aktuell.de
X-WR-CALDESC:Veranstaltungen im Waldmohr Aktuell
REFRESH-INTERVAL;VALUE=DURATION:PT1H
X-Robots-Tag:noindex
X-PUBLISHED-TTL:PT1H
BEGIN:VTIMEZONE
TZID:Europe/Berlin
BEGIN:DAYLIGHT
TZOFFSETFROM:+0100
TZOFFSETTO:+0200
TZNAME:CEST
DTSTART:20230326T010000
END:DAYLIGHT
BEGIN:STANDARD
TZOFFSETFROM:+0200
TZOFFSETTO:+0100
TZNAME:CET
DTSTART:20231029T010000
END:STANDARD
BEGIN:DAYLIGHT
TZOFFSETFROM:+0100
TZOFFSETTO:+0200
TZNAME:CEST
DTSTART:20240331T010000
END:DAYLIGHT
BEGIN:STANDARD
TZOFFSETFROM:+0200
TZOFFSETTO:+0100
TZNAME:CET
DTSTART:20241027T010000
END:STANDARD
BEGIN:DAYLIGHT
TZOFFSETFROM:+0100
TZOFFSETTO:+0200
TZNAME:CEST
DTSTART:20250330T010000
END:DAYLIGHT
BEGIN:STANDARD
TZOFFSETFROM:+0200
TZOFFSETTO:+0100
TZNAME:CET
DTSTART:20251026T010000
END:STANDARD
END:VTIMEZONE
BEGIN:VEVENT
DTSTART;TZID=Europe/Berlin:20240824T200000
DTEND;TZID=Europe/Berlin:20240824T223000
DTSTAMP:20260419T163514
CREATED:20240813T113150Z
LAST-MODIFIED:20240813T113150Z
UID:20021-1724529600-1724538600@www.waldmohr-aktuell.de
SUMMARY:Dämmerschoppen mit den Revengers
DESCRIPTION:
URL:https://www.waldmohr-aktuell.de/event/daemmerschoppen-mit-den-revengers/
LOCATION:Bürgerhaus Waldmohr
ATTACH;FMTTYPE=image/jpeg:https://www.waldmohr-aktuell.de/wp-content/uploads/sites/363/2024/08/Anmerkung-2024-08-13-133010.jpg
ORGANIZER;CN="Stadt Waldmohr%2C Vereine und Organisationen":MAILTO:bb-wm@vgog.de
END:VEVENT
BEGIN:VEVENT
DTSTART;TZID=Europe/Berlin:20240829T080000
DTEND;TZID=Europe/Berlin:20240829T170000
DTSTAMP:20260419T163514
CREATED:20240829T192400Z
LAST-MODIFIED:20240829T192400Z
UID:20034-1724918400-1724950800@www.waldmohr-aktuell.de
SUMMARY:Batnight - Fledermausbeobachtung Utraschalltöne hörbar gemacht
DESCRIPTION:  \n  \n \nTreffpunkt: Fischerhütte am Motschweiher Waldmohr\nLeitung: Norbert Hölcker\nFreitag\, 30.08.2024\n20:30 bis 21:30 Uhr \n\n\n\nFledermäuse sind nachtaktive Säugetiere\, die ihre Beute meist im Flug orten und ergreifen. Dazu bedienen sie sich ihres \n\n\nUltraschallortungssystems. Die ausgesandten Ultraschalltöne werden aber nicht nur von den Beutetieren reflektiert sondern auch von\n\n\nden Strukturen ihrer Umgebung zurück geworfen. So erhalten die Fledermäuse ein klar strukturiertes Bild ihrer Umgebung. Fledermäuse\n\n\nkommen daher nur in reich gegliederten Landschaften vor; in ausgeräumten\, strukturarmen Gebieten fehlen sie.\n\n\nIm Rahmen der diesjährigen Europäischen Fledermausnacht möchten wir Sie mit den Fledermausarten\, die in Waldmohr relativ häufig\n\n\nsind\, bekannt machen. Ihre Ultraschalltöne lassen sich mit Hilfe eines Frequenzwandlers hörbar machen. Anhand des Klangspektrums\n\n\nkann man dann die Art erkennen.\n\n\nEin Blick über den Motschweiher am Abend erfasst den waghalsigen Flug der Fledermäuse\, auch beim Flug rund um die\n\n\nStraßenlaternen können wir zusehen.
URL:https://www.waldmohr-aktuell.de/event/batnight-fledermausbeobachtung-utraschalltoene-hoerbar-gemacht/
END:VEVENT
END:VCALENDAR